BEGIN:VCALENDAR
VERSION:2.0
PRODID:-//ERT//LNF26//DE
VERSION:2.0
BEGIN:VEVENT
UID:exhibitionlocation_1006_20260424T150000Z
DTSTAMP:20260422T094200Z
URL:https://ert.langenachtderforschung.at/ausstellungsstandort/1006
DTSTART:20260424T150000Z
DTEND:20260424T210000Z
SUMMARY:[LNF26] Strahlenschutzlabor
DESCRIPTION:Röntgen, Computertomographie, Nuklearmedizin, ... Ionisierende Strahlung spielt bei vielen Diagnosen und Behandlungen eine wichtige Rolle.
LOCATION:Währinger Gürtel  18-20, 1090 Wien
GEO:48.21964243;16.34650951
END:VEVENT
END:VCALENDAR