BEGIN:VCALENDAR
VERSION:2.0
PRODID:-//ERT//LNF26//DE
VERSION:2.0
BEGIN:VEVENT
UID:exhibitionlocation_1007_20260424T150000Z
DTSTAMP:20260424T090200Z
URL:https://ert.langenachtderforschung.at/ausstellungsstandort/1007
DTSTART:20260424T150000Z
DTEND:20260424T210000Z
SUMMARY:[LNF26] MedUni Wien - Mitmachlabor Mikroskopie
DESCRIPTION:Entdecken Sie die unsichtbare Welt der Erreger: Im Laborbereich erwarten Sie faszinierende Einblicke durchs Mikroskop – von Zellen bis zu Mikroorganismen. Staunen, forschen, selbst entdecken!
LOCATION:Währinger Gürtel  18-20, 1090 Wien
GEO:48.21973561;16.34864900
END:VEVENT
END:VCALENDAR