BEGIN:VCALENDAR
VERSION:2.0
PRODID:-//ERT//LNF26//DE
VERSION:2.0
BEGIN:VEVENT
UID:exhibitionlocation_1008_20260424T150000Z
DTSTAMP:20260422T094300Z
URL:https://ert.langenachtderforschung.at/ausstellungsstandort/1008
DTSTART:20260424T150000Z
DTEND:20260424T210000Z
SUMMARY:[LNF26] MedUni Wien - Zentrum für Translationale Medizin
DESCRIPTION:Die Medizin der Zukunft braucht besondere Infrastruktur: Auf über 14.000 m²  wachsen Forschung, Lehre und Klinik enger zusammen als je zuvor. Hier entstehen Räume für Begegnung, Austausch und Innovation.
LOCATION:Lazarettgassenweg, 1090 Wien
GEO:48.21925982;16.34809137
END:VEVENT
END:VCALENDAR