BEGIN:VCALENDAR
VERSION:2.0
PRODID:-//ERT//LNF26//DE
VERSION:2.0
BEGIN:VEVENT
UID:exhibitionlocation_1009_20260424T150000Z
DTSTAMP:20260424T090200Z
URL:https://ert.langenachtderforschung.at/ausstellungsstandort/1009
DTSTART:20260424T150000Z
DTEND:20260424T210000Z
SUMMARY:[LNF26] MedUni Wien - Gustav Klimt Fassade: &#34;Die Medizin&#34;
DESCRIPTION:Mithilfe von KI und wissenschaftlicher Expertise rekonstruierte Google Arts & Culture gemeinsam mit der Sammlung Belvedere die Farbgebung von Gustav Klimts verloren gegangenen Fakultätsbildern.
LOCATION:Lazarettgassenweg, 1090 Wien
GEO:48.21952171;16.34824737
END:VEVENT
END:VCALENDAR