BEGIN:VCALENDAR
VERSION:2.0
PRODID:-//ERT//LNF26//DE
VERSION:2.0
BEGIN:VEVENT
UID:exhibitionlocation_1010_20260424T150000Z
DTSTAMP:20260422T094500Z
URL:https://ert.langenachtderforschung.at/ausstellungsstandort/1010
DTSTART:20260424T150000Z
DTEND:20260424T210000Z
SUMMARY:[LNF26] MedUni Wien - Denkmal Ignaz Semmelweis
DESCRIPTION:Entdecken Sie Ignaz Semmelweis, Pionier der Händehygiene, und erfahren Sie, wie seine Entdeckung bis heute Leben in Medizin und Gesellschaft rettet.
LOCATION:Spitalgasse 23, 1090 Wien
GEO:48.21988253;16.35069291
END:VEVENT
END:VCALENDAR