BEGIN:VCALENDAR
VERSION:2.0
PRODID:-//ERT//LNF26//DE
VERSION:2.0
BEGIN:VEVENT
UID:exhibitionlocation_1011_20260424T150000Z
DTSTAMP:20260424T090200Z
URL:https://ert.langenachtderforschung.at/ausstellungsstandort/1011
DTSTART:20260424T150000Z
DTEND:20260424T210000Z
SUMMARY:[LNF26] MedUni Wien - Sigmund Freud entdecken
DESCRIPTION:Mit der "Psychoanalyse" revolutionierte Sigmund Freud von Wien aus die Welt. An diesem Standort erfahren Sie mehr über Freuds Theorie und die Rolle unserer Träume.
LOCATION:Spitalgasse 23, 1090 Wien
GEO:48.22029156;16.35096419
END:VEVENT
END:VCALENDAR