BEGIN:VCALENDAR
VERSION:2.0
PRODID:-//ERT//LNF26//DE
VERSION:2.0
BEGIN:VEVENT
UID:exhibitionlocation_1049_20260424T150000Z
DTSTAMP:20260419T225600Z
URL:https://ert.langenachtderforschung.at/ausstellungsstandort/1049
DTSTART:20260424T150000Z
DTEND:20260424T200000Z
SUMMARY:[LNF26] SILICON ALPS Cluster im EBS-Gebäude
DESCRIPTION:Die erstaunliche Welt von Siemens, AutoLab und Co. sowie Live-Sessions mit Expert:innen bei uns erleben.
LOCATION:Inffeldgasse 33 EBS-Gebäude, Erdgeschoss, 8010 Graz
GEO:47.05720544;15.45949638
END:VEVENT
END:VCALENDAR