BEGIN:VCALENDAR
VERSION:2.0
PRODID:-//ERT//LNF26//DE
VERSION:2.0
BEGIN:VEVENT
UID:exhibitionlocation_1058_20260424T150000Z
DTSTAMP:20260419T225600Z
URL:https://ert.langenachtderforschung.at/ausstellungsstandort/1058
DTSTART:20260424T150000Z
DTEND:20260424T210000Z
SUMMARY:[LNF26] Trudls Noodle Truck
DESCRIPTION:Mobiler Foodtruck mit Bowl-Köstlichkeiten und Erfrischungen für einen gelungenen Freitagabend!
LOCATION:Inffeldgasse 11 Blauer Platz am Campus, 8010 Graz
GEO:47.05933404;15.46385190
END:VEVENT
END:VCALENDAR