BEGIN:VCALENDAR
VERSION:2.0
PRODID:-//ERT//LNF26//DE
VERSION:2.0
BEGIN:VEVENT
UID:exhibitionlocation_1095_20260424T150000Z
DTSTAMP:20260421T035900Z
URL:https://ert.langenachtderforschung.at/ausstellungsstandort/1095
DTSTART:20260424T150000Z
DTEND:20260424T200000Z
SUMMARY:[LNF26] Rathausplatz St. Pölten
DESCRIPTION:Der südliche Teil des St. Pöltner Rathausplatz wird Teil der Langen Nacht der Forschung 2026. Kommen Sie vorbei und erleben Sie experimentelle Medienkunst, die sich atmosphärisch in den Platz integriert!
LOCATION:Rathausplatz St. Pölten, südliche Hälfte, 3100 St. Pölten
GEO:48.20472995;15.62292069
END:VEVENT
END:VCALENDAR