BEGIN:VCALENDAR
VERSION:2.0
PRODID:-//ERT//LNF26//DE
VERSION:2.0
BEGIN:VEVENT
UID:exhibitionlocation_1105_20260424T150000Z
DTSTAMP:20260420T003500Z
URL:https://ert.langenachtderforschung.at/ausstellungsstandort/1105
DTSTART:20260424T150000Z
DTEND:20260424T210000Z
SUMMARY:[LNF26] Kunstuniversität Graz - Theater im Palais (T.i.P.) - Ballettsaal
DESCRIPTION:Zwei Demostationen werden in diesem Raum zu finden sein.
LOCATION:Leonhardstraße 19, 8010 Graz
GEO:47.07245350;15.45048680
END:VEVENT
END:VCALENDAR