BEGIN:VCALENDAR
VERSION:2.0
PRODID:-//ERT//LNF26//DE
VERSION:2.0
BEGIN:VEVENT
UID:exhibitionlocation_1109_20260424T150000Z
DTSTAMP:20260419T225600Z
URL:https://ert.langenachtderforschung.at/ausstellungsstandort/1109
DTSTART:20260424T150000Z
DTEND:20260424T210000Z
SUMMARY:[LNF26] JOANNEUM RESEARCH DIGITAL – INSTITUT FÜR DIGITALE TECHNOLOGIEN -&gt; Innenhof
DESCRIPTION:Ausstellung zum Thema "NACHHALTIGKEIT" im Innenhof der Steyrergasse 17....
LOCATION:Steyrergasse 17 DIGITAL Institut für Digitale Technologien, 8010 Graz
GEO:47.06404490;15.45319840
END:VEVENT
END:VCALENDAR