BEGIN:VCALENDAR
VERSION:2.0
PRODID:-//ERT//LNF26//DE
VERSION:2.0
BEGIN:VEVENT
UID:exhibitionlocation_111_20260424T150000Z
DTSTAMP:20260424T121600Z
URL:https://ert.langenachtderforschung.at/ausstellungsstandort/111
DTSTART:20260424T150000Z
DTEND:20260424T210000Z
SUMMARY:[LNF26] Universität für Weiterbildung Krems
DESCRIPTION:Universitäten tragen mit ihrer Forschung eine besondere Verantwortung gegenüber der Gesellschaft. Daher ist es der Universität für Weiterbildung Krems ein zentrales Anliegen, wissenschaftliche Erkenntnisse und Arbeitsweisen für Menschen jeden Alters – von Kindern bis Erwachsenen – verständlich und zugänglich sowie durch aktives Mitmachen den Prozess der Forschung erlebbar zu machen.
LOCATION:Dr. Karl-Dorrek-Straße 30, 3500 Krems
GEO:48.40830956;15.58515436
END:VEVENT
END:VCALENDAR