BEGIN:VCALENDAR
VERSION:2.0
PRODID:-//ERT//LNF26//DE
VERSION:2.0
BEGIN:VEVENT
UID:exhibitionlocation_1125_20260424T150000Z
DTSTAMP:20260419T224700Z
URL:https://ert.langenachtderforschung.at/ausstellungsstandort/1125
DTSTART:20260424T150000Z
DTEND:20260424T210000Z
SUMMARY:[LNF26] Infineon Technologies Austria AG, Graz
DESCRIPTION:Infineon Technologies Austria AG in Graz bietet spannende Einblicke in innovative Forschung. An verschiedenen Stationen erleben Besucher:innen exklusive Laborführungen, Robotik, Digital Health und interaktive Technikangebote für Kinder – ein Ort, an dem Zukunft erlebbar wird.
LOCATION:Metahofgasse 16 Innenhof, 8020 Graz
GEO:47.07192924;15.42310068
END:VEVENT
END:VCALENDAR