BEGIN:VCALENDAR
VERSION:2.0
PRODID:-//ERT//LNF26//DE
VERSION:2.0
BEGIN:VEVENT
UID:exhibitionlocation_116_20260424T150000Z
DTSTAMP:20260420T225500Z
URL:https://ert.langenachtderforschung.at/ausstellungsstandort/116
DTSTART:20260424T150000Z
DTEND:20260424T210000Z
SUMMARY:[LNF26] Science Pool
DESCRIPTION:SCIENCE POOL ist so vielseitig wie seine Besuchenden. Und so ist es nur logisch, dass wir unterschiedliche Formate und Angebote für Wissenschaftshungrige vom Kindergartenalter bis hin zu Erwachsenen anbieten. Versuch, Irrtum und Erfolg dürfen selbst erlebt werden, um die schöpferische Kraft zu Tage zu bringen.
LOCATION:Hauffgasse 4A, 1110 Wien
GEO:48.17721370;16.41153380
END:VEVENT
END:VCALENDAR