BEGIN:VCALENDAR
VERSION:2.0
PRODID:-//ERT//LNF26//DE
VERSION:2.0
BEGIN:VEVENT
UID:exhibitionlocation_126_20260424T150000Z
DTSTAMP:20260419T225600Z
URL:https://ert.langenachtderforschung.at/ausstellungsstandort/126
DTSTART:20260424T150000Z
DTEND:20260424T200000Z
SUMMARY:[LNF26] PHSt Campus Nord, Hasnerplatz
DESCRIPTION:Der Campus am Hasnerplatz ist seit mehr als 110 Jahren das Zentrum der steirischen Lehrerinnen- und Lehrerbildung bestehend aus einem Altbau und einem Neubau.
LOCATION:Hasnerplatz 12, 8010 Graz
GEO:47.08250200;15.43363926
END:VEVENT
END:VCALENDAR