BEGIN:VCALENDAR
VERSION:2.0
PRODID:-//ERT//LNF26//DE
VERSION:2.0
BEGIN:VEVENT
UID:exhibitionlocation_127_20260424T150000Z
DTSTAMP:20260419T225600Z
URL:https://ert.langenachtderforschung.at/ausstellungsstandort/127
DTSTART:20260424T150000Z
DTEND:20260424T200000Z
SUMMARY:[LNF26] PHSt Campus Ost, Dürergasse
DESCRIPTION:Am PHSt Campus Ost, Dürergasse befindet sich im Gebäude der Digitalen Mittelschule St. Leonhard die Hochschullernwerkstätte Digital Learning Lab.
LOCATION:Dürergasse 2, 8010 Graz
GEO:47.07599160;15.45811028
END:VEVENT
END:VCALENDAR