BEGIN:VCALENDAR
VERSION:2.0
PRODID:-//ERT//LNF26//DE
VERSION:2.0
BEGIN:VEVENT
UID:exhibitionlocation_13_20260424T150000Z
DTSTAMP:20260421T002500Z
URL:https://ert.langenachtderforschung.at/ausstellungsstandort/13
DTSTART:20260424T150000Z
DTEND:20260424T210000Z
SUMMARY:[LNF26] MAMUZ Schloss Asparn/Zaya
DESCRIPTION:Das MAMUZ Schloss Asparn/Zaya lässt 40.000 Jahre unserer Menschheitsgeschichte zu einem Erlebnis werden! Die Ausstellung im Schloss gibt mit einer interaktiven und modernen Gestaltung einen umfassenden Einblick in die Urgeschichte, Frühgeschichte und Mittelalterarchäologie. Im Rahmen der Langen Nacht der Forschung werden außerdem Mitmach- und Expertenstationen dazu angeboten.
LOCATION:Schlossgasse 1, 2151 Asparn/Zaya
GEO:48.58882465;16.49122819
END:VEVENT
END:VCALENDAR