BEGIN:VCALENDAR
VERSION:2.0
PRODID:-//ERT//LNF26//DE
VERSION:2.0
BEGIN:VEVENT
UID:exhibitionlocation_141_20260424T150000Z
DTSTAMP:20260419T225600Z
URL:https://ert.langenachtderforschung.at/ausstellungsstandort/141
DTSTART:20260424T150000Z
DTEND:20260424T204500Z
SUMMARY:[LNF26] Anton Paar
DESCRIPTION:Anton Paar öffnet sein Headquarter und lädt zu einer Entdeckungsreise durch Forschung und Messtechnik ein. Besucherinnen und Besucher vermessen ihre Lieblingslimonade, erleben Präzision in der hauseigenen Brauerei, tauchen im skills.lab Cube in ein interaktives Fußballerlebnis ein und erhalten Einblicke in das innovative Technologiezentrum. Zudem warten kleine Gewinne sowie ein Gratis-Getränk mit Snack im Sudhaus.
LOCATION:Anton-Paar-Straße 20, 8054 Graz
GEO:47.03112409;15.40448964
END:VEVENT
END:VCALENDAR