BEGIN:VCALENDAR
VERSION:2.0
PRODID:-//ERT//LNF26//DE
VERSION:2.0
BEGIN:VEVENT
UID:exhibitionlocation_146_20260424T150000Z
DTSTAMP:20260424T072400Z
URL:https://ert.langenachtderforschung.at/ausstellungsstandort/146
DTSTART:20260424T150000Z
DTEND:20260424T210000Z
SUMMARY:[LNF26] FH Salzburg - Campus Urstein
DESCRIPTION:Von Käse bis Künstliche Intelligenz - testen, knobeln und experimentieren. Am Campus Urstein könnt ihr an 17 Stationen Forschung hautnah miterleben: Testet eure Koordination bei Hitze, untersucht Alpenpflanzen mit allen Sinnen und beobachtet, wie KI Objekte erkennt – und wo Grenzen liegen. Käseverkostung, Simulation von Energieflüssen - entdeckt Desinformation in sozialen Medien und fordert KI-Systeme heraus.
LOCATION:Urstein Süd 1 Campus Urstein, 5412 Puch / Salzburg
GEO:47.72415879;13.08666676
END:VEVENT
END:VCALENDAR