BEGIN:VCALENDAR
VERSION:2.0
PRODID:-//ERT//LNF26//DE
VERSION:2.0
BEGIN:VEVENT
UID:exhibitionlocation_15_20260424T150000Z
DTSTAMP:20260423T142400Z
URL:https://ert.langenachtderforschung.at/ausstellungsstandort/15
DTSTART:20260424T150000Z
DTEND:20260424T203000Z
SUMMARY:[LNF26] Institute of Science and Technology Austria (ISTA)
DESCRIPTION:Das Institute of Science and Technology Austria (ISTA) ist ein junges internationales Institut in Klosterneuburg bei Wien, das sich der naturwissenschaftlichen Grundlagenforschung und Postgraduiertenausbildung widmet.\nISTA verfolgt das Ziel, erstklassige Forschung zu betreiben. 2026 werden hier bis zu 90 Forschungsgruppen in einem internationalen, hochmodernen Umfeld forschen.
LOCATION:Am Campus 1, 3400 Klosterneuburg
GEO:48.31000011;16.25918412
END:VEVENT
END:VCALENDAR