BEGIN:VCALENDAR
VERSION:2.0
PRODID:-//ERT//LNF26//DE
VERSION:2.0
BEGIN:VEVENT
UID:exhibitionlocation_200_20260424T150000Z
DTSTAMP:20260419T225600Z
URL:https://ert.langenachtderforschung.at/ausstellungsstandort/200
DTSTART:20260424T150000Z
DTEND:20260424T203000Z
SUMMARY:[LNF26] AVL Headquarters
DESCRIPTION:Mobilität steht vor einem großen Wandel: Fahrzeuge werden digitaler, leiser, vernetzter, energieeffizienter und technisch anspruchsvoller. Doch was passiert hinter den Türen, bevor ein Auto überhaupt auf die Straße darf? Und wie entsteht aus einer Idee am Computer ein funktionierendes, getestetes Fahrzeugsystem?
LOCATION:Hans-List-Platz 1, 8020 Graz
GEO:47.07802281;15.42457670
END:VEVENT
END:VCALENDAR