BEGIN:VCALENDAR
VERSION:2.0
PRODID:-//ERT//LNF26//DE
VERSION:2.0
BEGIN:VEVENT
UID:exhibitionlocation_212_20260424T150000Z
DTSTAMP:20260422T204100Z
URL:https://ert.langenachtderforschung.at/ausstellungsstandort/212
DTSTART:20260424T150000Z
DTEND:20260424T210000Z
SUMMARY:[LNF26] FH Wiener Neustadt - Biotech Campus Tulln
DESCRIPTION:Zentraler Punkt am Campus Tulln Technopol ist die Fachhochschule. Hier studieren sie die Bachelor-Studiengänge Biotechnische Verfahren, Biomedizinische Analytik und Softwaretechnik & digitaler Systembau und die Master-Studiengänge Biotechnology & Analytics und Bio Data Science. Kommen sie vorbei, schnuppern sie Campus-Atmosphäre und erleben sie „Life Sciences and Digital Future“!
LOCATION:Konrad Lorenz Straße 10, 3430 Tulln
GEO:48.32043157;16.06446745
END:VEVENT
END:VCALENDAR