BEGIN:VCALENDAR
VERSION:2.0
PRODID:-//ERT//LNF26//DE
VERSION:2.0
BEGIN:VEVENT
UID:exhibitionlocation_220_20260424T150000Z
DTSTAMP:20260419T225600Z
URL:https://ert.langenachtderforschung.at/ausstellungsstandort/220
DTSTART:20260424T150000Z
DTEND:20260424T210000Z
SUMMARY:[LNF26] KNAPP AG
DESCRIPTION:Das internationale Unternehmen mit rund 8.300 Mitarbeitenden ist Spezialist für smarte Logistik- und Automatisierungslösungen. Bei der Führung durch unser Unternehmen tauchen Besucher:innen in die faszinierende Welt der Logistik von morgen ein. Dabei begegnen sie nicht nur den Menschen hinter KNAPP, sondern erhalten aus erster Hand Einblicke in die neuesten Innovationen und Technologien.
LOCATION:Günter-Knapp-Straße 5-7, 8075 Hart bei Graz
GEO:47.04283818;15.50977921
END:VEVENT
END:VCALENDAR