BEGIN:VCALENDAR
VERSION:2.0
PRODID:-//ERT//LNF26//DE
VERSION:2.0
BEGIN:VEVENT
UID:exhibitionlocation_229_20260424T150000Z
DTSTAMP:20260420T052500Z
URL:https://ert.langenachtderforschung.at/ausstellungsstandort/229
DTSTART:20260424T150000Z
DTEND:20260424T210000Z
SUMMARY:[LNF26] accent Makerspace Tulln
DESCRIPTION:Am Gelände der ehemaligen Landwirtschaftlichen Fachschule Tulln ist 2021 ein Makerspace für Tech-Start-ups in den Bereichen Agrifood, Biotechnologie und saubere Energie entstanden. Besuchen Sie uns und machen Sie sich ein Bild der aktuellen Innovationen, die ihren Ausgangspunkt in universitärer Forschung haben, und im Makerspace weiterentwickelt werden. Entdecken Sie einen Ort voll Einfallsreichtum und Erfindergeist!
LOCATION:Frauentorgasse 72-74, 3430 Tulln
GEO:48.31857600;16.05586298
END:VEVENT
END:VCALENDAR