BEGIN:VCALENDAR
VERSION:2.0
PRODID:-//ERT//LNF26//DE
VERSION:2.0
BEGIN:VEVENT
UID:exhibitionlocation_237_20260424T150000Z
DTSTAMP:20260423T085000Z
URL:https://ert.langenachtderforschung.at/ausstellungsstandort/237
DTSTART:20260424T150000Z
DTEND:20260424T200000Z
SUMMARY:[LNF26] Vollpension in der MUK
DESCRIPTION:Von 20:00 bis 21:00 haben Sie Gelegenheit, die Diversität der Forschungsprojekte an der MUK kennenzulernen und direkt mit den Forschenden zu sprechen, und zwar beim wissenschaftlichen Speed-Dating! Das Team der "Vollpension" heißt sie während der gesamten Langen Nacht der Forschung willkommen und serviert kulinarische Schmankerln.\nDie Vollpension befindet sich im Erdgeschoss.
LOCATION:Johannesgasse 4a Erdgeschoß, 1010 Wien
GEO:48.20487090;16.37223610
END:VEVENT
END:VCALENDAR