BEGIN:VCALENDAR
VERSION:2.0
PRODID:-//ERT//LNF26//DE
VERSION:2.0
BEGIN:VEVENT
UID:exhibitionlocation_266_20260424T150000Z
DTSTAMP:20260419T225600Z
URL:https://ert.langenachtderforschung.at/ausstellungsstandort/266
DTSTART:20260424T150000Z
DTEND:20260424T200000Z
SUMMARY:[LNF26] Institut für Weltraumforschung (IWF) der Österreichischen Akademie der Wissenschaften (ÖAW)
DESCRIPTION:Als verlässlicher Partner internationaler Weltraumagenturen bringt das Grazer Institut für Weltraumforschung (IWF) Österreich seit über 50 Jahren erfolgreich ins All. Mit wissenschaftlichem Know-how und hochpräzisen Messinstrumenten ist das Institut an zahlreichen Raumsonden zur Erforschung unseres Sonnensystems und der Vielfalt der Exoplaneten beteiligt.
LOCATION:Schmiedlstraße 6, 8042 Graz
GEO:47.04438960;15.47958542
END:VEVENT
END:VCALENDAR