BEGIN:VCALENDAR
VERSION:2.0
PRODID:-//ERT//LNF26//DE
VERSION:2.0
BEGIN:VEVENT
UID:exhibitionlocation_27_20260424T150000Z
DTSTAMP:20260421T083700Z
URL:https://ert.langenachtderforschung.at/ausstellungsstandort/27
DTSTART:20260424T150000Z
DTEND:20260424T210000Z
SUMMARY:[LNF26] Botanischer Garten des Institutes für Botanik der Universität Innsbruck
DESCRIPTION:Der Botanische Garten ist Lehr- und Forschungsstätte der Universität Innsbruck. Seit dem Jahr 1906 sind die Anlagen in Hötting, an die das Institut für Botanik angeschlossen ist, auch für Besucher geöffnet.
LOCATION:Sternwartestraße 15, 6020 Innsbruck
GEO:47.26793900;11.37844318
END:VEVENT
END:VCALENDAR