BEGIN:VCALENDAR
VERSION:2.0
PRODID:-//ERT//LNF26//DE
VERSION:2.0
BEGIN:VEVENT
UID:exhibitionlocation_273_20260424T150000Z
DTSTAMP:20260419T225600Z
URL:https://ert.langenachtderforschung.at/ausstellungsstandort/273
DTSTART:20260424T150000Z
DTEND:20260424T210000Z
SUMMARY:[LNF26] Universität Graz - Hauptgebäude
DESCRIPTION:Im Hauptgebäude der Uni Graz laden das Museum und das Universitätsarchiv zu einem Besuch ein.
LOCATION:Universitätsplatz 3 Untergeschoß, 8010 Graz
GEO:47.07774330;15.44946246
END:VEVENT
END:VCALENDAR