BEGIN:VCALENDAR
VERSION:2.0
PRODID:-//ERT//LNF26//DE
VERSION:2.0
BEGIN:VEVENT
UID:exhibitionlocation_28_20260424T150000Z
DTSTAMP:20260422T204100Z
URL:https://ert.langenachtderforschung.at/ausstellungsstandort/28
DTSTART:20260424T150000Z
DTEND:20260424T210000Z
SUMMARY:[LNF26] FH Wiener Neustadt - Campus 1
DESCRIPTION:Innovation Lab und Area27 der FH Wiener Neustadt
LOCATION:Johannes-Gutenberg-Straße 3 Innovation Lab und Area27 (J. Gutenberg-Straße 5), 2700 Wiener Neustadt
GEO:47.83811166;16.24962151
END:VEVENT
END:VCALENDAR