BEGIN:VCALENDAR
VERSION:2.0
PRODID:-//ERT//LNF26//DE
VERSION:2.0
BEGIN:VEVENT
UID:exhibitionlocation_280_20260424T150000Z
DTSTAMP:20260424T123600Z
URL:https://ert.langenachtderforschung.at/ausstellungsstandort/280
DTSTART:20260424T150000Z
DTEND:20260424T210000Z
SUMMARY:[LNF26] Postsparkasse
DESCRIPTION:Tauchen Sie ein in die Welt der Kunst & Wissenschaft in der Otto Wagner Postsparkasse! Die Bundesimmobiliengesellschaft, Johannes Kepler Universität Linz, das Ludwig Boltzmann Institut für Kriegsfolgenforschung, die Österreichische Akademie der Wissenschaften, die Universität für angewandte Kunst Wien, die österreichische UNESCO-Kommission, der Wissenschaftsfonds FWF präsentieren ein gemeinsames Bühnenprogramm.
LOCATION:Georg-Coch-Platz 2, 1010 Wien
GEO:48.20997790;16.38064765
END:VEVENT
END:VCALENDAR