BEGIN:VCALENDAR
VERSION:2.0
PRODID:-//ERT//LNF26//DE
VERSION:2.0
BEGIN:VEVENT
UID:exhibitionlocation_297_20260424T150000Z
DTSTAMP:20260419T225600Z
URL:https://ert.langenachtderforschung.at/ausstellungsstandort/297
DTSTART:20260424T150000Z
DTEND:20260424T210000Z
SUMMARY:[LNF26] FH JOANNEUM Graz
DESCRIPTION:Ein Abend voller Rätsel, Experimente zum Mitmachen, innovativer Projekte und spannender Laboreinblicke erwartet Sie bei der Langen Nacht der Forschung an der FH JOANNEUM Graz. Groß und Klein können in die faszinierende Welt der Forschung eintauchen und ihren Wissensdurst stillen: neugierig sein, selbst ausprobieren und Neues lernen. Kinder und Jugendliche lädt die Forschungsrally zusätzlich zum Erkunden ein.
LOCATION:Eggenberger Allee 11+13, Eckertstraße 7a+30i, 8020 Graz
GEO:47.06940355;15.40670826
END:VEVENT
END:VCALENDAR