BEGIN:VCALENDAR
VERSION:2.0
PRODID:-//ERT//LNF26//DE
VERSION:2.0
BEGIN:VEVENT
UID:exhibitionlocation_298_20260424T150000Z
DTSTAMP:20260420T052500Z
URL:https://ert.langenachtderforschung.at/ausstellungsstandort/298
DTSTART:20260424T150000Z
DTEND:20260424T210000Z
SUMMARY:[LNF26] FH JOANNEUM Kapfenberg
DESCRIPTION:Ein Abend voller Rätsel, Experimente zum Mitmachen, innovativer Projekte und spannender Laboreinblicke erwartet Sie bei der Langen Nacht der Forschung an der FH JOANNEUM Kapfenberg am Hightech-Campus und am Gesundheitscampus. Groß und Klein können in die faszinierende Welt der Forschung eintauchen und ihren Wissensdurst stillen. Kinder und Jugendliche lädt die Forschungsrally zusätzlich zum Erkunden ein.
LOCATION:Werk-VI-Straße 46 (Hightech-Campus), Wiener Straße 25 (Gesundheitscampus), 8605 Kapfenberg
GEO:47.45386160;15.33173550
END:VEVENT
END:VCALENDAR