BEGIN:VCALENDAR
VERSION:2.0
PRODID:-//ERT//LNF26//DE
VERSION:2.0
BEGIN:VEVENT
UID:exhibitionlocation_33_20260424T150000Z
DTSTAMP:20260424T134900Z
URL:https://ert.langenachtderforschung.at/ausstellungsstandort/33
DTSTART:20260424T150000Z
DTEND:20260424T200000Z
SUMMARY:[LNF26] Danube Private University - Krems
DESCRIPTION:Die DPU freut sich besonders, Sie heuer zum dritten Mal im Rahmen der Langen Nacht der Forschung willkommen heißen zu dürfen.\nEs wird Ihnen die Forschung innerhalb der Human- und Zahnmedizin, in sieben spannenden Stationen anhand von Experimenten wie auch Expert:innenvorträgen nähergebracht.
LOCATION:Förthofstraße 2 - 4, 3500 Krems-Stein
GEO:48.39900976;15.57130158
END:VEVENT
END:VCALENDAR