BEGIN:VCALENDAR
VERSION:2.0
PRODID:-//ERT//LNF26//DE
VERSION:2.0
BEGIN:VEVENT
UID:exhibitionlocation_349_20260424T150000Z
DTSTAMP:20260419T225600Z
URL:https://ert.langenachtderforschung.at/ausstellungsstandort/349
DTSTART:20260424T150000Z
DTEND:20260424T210000Z
SUMMARY:[LNF26] JOANNEUM RESEARCH DIGITAL – INSTITUT FÜR DIGITALE TECHNOLOGIEN
DESCRIPTION:DIGITAL ist Vorreiter und zuverlässiger Partner auf dem Gebiet der digitalen Innovation und Transformation und entwickelt Hightech-Lösungen, die auch im praktischen Einsatz unter rauen Bedingungen zuverlässig und robust funktionieren.
LOCATION:Steyrergasse 17, 8010 Graz
GEO:47.06391605;15.45324902
END:VEVENT
END:VCALENDAR