BEGIN:VCALENDAR
VERSION:2.0
PRODID:-//ERT//LNF26//DE
VERSION:2.0
BEGIN:VEVENT
UID:exhibitionlocation_415_20260424T150000Z
DTSTAMP:20260420T040300Z
URL:https://ert.langenachtderforschung.at/ausstellungsstandort/415
DTSTART:20260424T150000Z
DTEND:20260424T210000Z
SUMMARY:[LNF26] Universität Klagenfurt
DESCRIPTION:Die Universität Klagenfurt, gegründet im Jahr 1970, gehört zu den besten jungen Universitäten der Welt. Das Studienangebot umfasst Kulturwissenschaften, Literatur- & Sprachwissenschaften, Rechtswissenschaften, Wirtschaftswissenschaften, Sozial- & Gesellschaftswissenschaften sowie Technische Wissenschaften. Rund 2.000 der 12.000 Studierenden kommen aus knapp 100 Ländern der Welt für ihr Studium nach Klagenfurt.
LOCATION:Universitätsstraße 65-67, 9020 Klagenfurt
GEO:46.61631826;14.26516771
END:VEVENT
END:VCALENDAR