BEGIN:VCALENDAR
VERSION:2.0
PRODID:-//ERT//LNF26//DE
VERSION:2.0
BEGIN:VEVENT
UID:exhibitionlocation_422_20260424T150000Z
DTSTAMP:20260420T040300Z
URL:https://ert.langenachtderforschung.at/ausstellungsstandort/422
DTSTART:20260424T150000Z
DTEND:20260424T210000Z
SUMMARY:[LNF26] Lakeside Science &amp; Technology Park
DESCRIPTION:Seit 2005 hat sich der Lakeside Science & Technology Park erfolgreich auf die Vernetzung von Unternehmen, Forschung und Bildung spezialisiert. Das international anerkannte Innovationszentrum mit Fokus auf Informations- und Kommunikationstechnologien wächst mit seinen derzeit über 70 Unternehmen, 8 Forschungsorganisationen und dem Educational Lab kontinuierlich weiter.
LOCATION:Lakeside B11, 9020 Klagenfurt
GEO:46.61423291;14.26646054
END:VEVENT
END:VCALENDAR