BEGIN:VCALENDAR
VERSION:2.0
PRODID:-//ERT//LNF26//DE
VERSION:2.0
BEGIN:VEVENT
UID:exhibitionlocation_472_20260424T150000Z
DTSTAMP:20260419T225600Z
URL:https://ert.langenachtderforschung.at/ausstellungsstandort/472
DTSTART:20260424T150000Z
DTEND:20260424T210000Z
SUMMARY:[LNF26] Kunstuniversität Graz - Theater im Palais (T.i.P.) - Probebühne
DESCRIPTION:Workshops, Konzerte, interaktive Präsentationen
LOCATION:Leonhardstraße 19 Probebühne, 8010 Graz
GEO:47.07245350;15.45048685
END:VEVENT
END:VCALENDAR