BEGIN:VCALENDAR
VERSION:2.0
PRODID:-//ERT//LNF26//DE
VERSION:2.0
BEGIN:VEVENT
UID:exhibitionlocation_473_20260424T150000Z
DTSTAMP:20260419T225600Z
URL:https://ert.langenachtderforschung.at/ausstellungsstandort/473
DTSTART:20260424T150000Z
DTEND:20260424T210000Z
SUMMARY:[LNF26] Kunstuniversität Graz - Theater im Palais (T.i.P.) - Foyer
DESCRIPTION:Das „Theater im Palais“ (T.i.P.) beheimatet das Institut Schauspiel und seine Probe- wie Bühnenräume. \nDas Foyer des T.i.P., eine gläserne Empfangshalle, gibt den Blick auf die alte Fassade des ehemaligen Stallungsgebäudes frei.
LOCATION:Leonhardstraße 19 Foyer, 8010 Graz
GEO:47.07245350;15.45048685
END:VEVENT
END:VCALENDAR