BEGIN:VCALENDAR
VERSION:2.0
PRODID:-//ERT//LNF26//DE
VERSION:2.0
BEGIN:VEVENT
UID:exhibitionlocation_488_20260424T150000Z
DTSTAMP:20260423T025300Z
URL:https://ert.langenachtderforschung.at/ausstellungsstandort/488
DTSTART:20260424T150000Z
DTEND:20260424T200000Z
SUMMARY:[LNF26] BRG Steyr
DESCRIPTION:Die vom BRG Steyr Michaelerplatz in der Langen Nacht der Forschung angebotenen Stationen erstrecken sich von naturwissenschaftlichen Experimenten und Präsentationen über LEGO Mindstorms-Roboter bis hin zum jungen Medium Podcast. Dabei richtet sich das Augenmerk auf Naturwissenschaftler:innen im Schulalter, aber auch interessierte Besucher:innen älteren Jahrgangs.
LOCATION:Michaelerplatz 6, 4400 Steyr
GEO:48.04347895;14.42207089
END:VEVENT
END:VCALENDAR