BEGIN:VCALENDAR
VERSION:2.0
PRODID:-//ERT//LNF26//DE
VERSION:2.0
BEGIN:VEVENT
UID:exhibitionlocation_50_20260424T153000Z
DTSTAMP:20260424T072400Z
URL:https://ert.langenachtderforschung.at/ausstellungsstandort/50
DTSTART:20260424T153000Z
DTEND:20260424T190000Z
SUMMARY:[LNF26] Kino im Kesselhaus
DESCRIPTION:Kino im Kesselhaus. Mehr als Kino!\n\nFreuen Sie sich auf ein abwechslungsreiches, informatives und spannendes Programm zur Lange Nacht der Forschung 2026!\n\nDas Kino im Kesselhaus ist als einziges Programmkino in Krems und Umgebung seit seiner Gründung vor mehr als 20 Jahren ein wichtiger kultureller Ort der Begegnung und lebendigen Auseinandersetzung mit Filmkultur.
LOCATION:Dr-Karl-Dorrek-Straße 30 Trakt E, 3500 Krems an der Donau
GEO:48.40851390;15.58714485
END:VEVENT
END:VCALENDAR