BEGIN:VCALENDAR
VERSION:2.0
PRODID:-//ERT//LNF26//DE
VERSION:2.0
BEGIN:VEVENT
UID:exhibitionlocation_522_20260424T150000Z
DTSTAMP:20260419T225600Z
URL:https://ert.langenachtderforschung.at/ausstellungsstandort/522
DTSTART:20260424T150000Z
DTEND:20260424T210000Z
SUMMARY:[LNF26] LENDHAFEN der Stadt Graz
DESCRIPTION:Die Zukunft an einem innovativen Standort abseits von Betrieben und Forschungseinrichtungen zu präsentieren, hat bei der Langen Nacht der Forschung Tradition. Heuer findet die offizielle LNF-Eröffnung und der ScienceTalk wieder im LENDHAFEN am Mariahilferplatz in Graz statt. Beim ScienceTalk starten stündlich ab 17.30 bis 22 Uhr Podiumsdiskussionen mit herausragenden Expert:innen und Wissenschafter:innen.
LOCATION:Lendkai 17, 8010 Graz
GEO:47.07247980;15.43376940
END:VEVENT
END:VCALENDAR