BEGIN:VCALENDAR
VERSION:2.0
PRODID:-//ERT//LNF26//DE
VERSION:2.0
BEGIN:VEVENT
UID:exhibitionlocation_533_20260424T150000Z
DTSTAMP:20260421T082100Z
URL:https://ert.langenachtderforschung.at/ausstellungsstandort/533
DTSTART:20260424T150000Z
DTEND:20260424T210000Z
SUMMARY:[LNF26] JOANNEUM RESEARCH MATERIALS Laser- und Plasma-Technologien
DESCRIPTION:Wir bieten Lasermaterialbearbeitung unter besonderer Berücksichtigung der werkstoffkundlichen Expertise um die Bauteileigenschaften, die für die Entwicklung der Prozesse von entscheidender Bedeutung ist.
LOCATION:Franz Josef-Straße 18, 8700 Leoben
GEO:47.38538290;15.09353830
END:VEVENT
END:VCALENDAR