BEGIN:VCALENDAR
VERSION:2.0
PRODID:-//ERT//LNF26//DE
VERSION:2.0
BEGIN:VEVENT
UID:exhibitionlocation_577_20260424T150000Z
DTSTAMP:20260419T225600Z
URL:https://ert.langenachtderforschung.at/ausstellungsstandort/577
DTSTART:20260424T150000Z
DTEND:20260424T210000Z
SUMMARY:[LNF26] Großer Hörsaal an der Anatomie der Med Uni Graz
DESCRIPTION:Im großen Hörsaal an der Anatomie der Med Uni Graz können Besucher:innen Neurochirurgie in 3D an der LED-Wall erleben.
LOCATION:Auenbruggerplatz 25, 8036 Graz
GEO:47.08200982;15.46429619
END:VEVENT
END:VCALENDAR