BEGIN:VCALENDAR
VERSION:2.0
PRODID:-//ERT//LNF26//DE
VERSION:2.0
BEGIN:VEVENT
UID:exhibitionlocation_578_20260424T150000Z
DTSTAMP:20260420T022600Z
URL:https://ert.langenachtderforschung.at/ausstellungsstandort/578
DTSTART:20260424T150000Z
DTEND:20260424T210000Z
SUMMARY:[LNF26] AVL Tech Center Steyr
DESCRIPTION:Seit über drei Jahrzehnten treibt die AVL am Standort in Steyr innovative und nachhaltige Antriebslösungen sowie Fahrzeugentwicklungen für Nutzfahrzeuge voran. \nTauchen Sie mit uns ein in das Entwicklungszentrum für Nutzfahrzeuge der AVL und erleben Sie, wie unser Innovationsstreben Gestalt annimmt.
LOCATION:Im Stadtgut Zone E4, 4407 Steyr-Gleink
GEO:48.07525283;14.42745625
END:VEVENT
END:VCALENDAR