BEGIN:VCALENDAR
VERSION:2.0
PRODID:-//ERT//LNF26//DE
VERSION:2.0
BEGIN:VEVENT
UID:exhibitionlocation_598_20260424T150000Z
DTSTAMP:20260425T172500Z
URL:https://ert.langenachtderforschung.at/ausstellungsstandort/598
DTSTART:20260424T150000Z
DTEND:20260424T204500Z
SUMMARY:[LNF26] Wasserbaulabor der BOKU University / Bundesamt für Wasserwirtschaft
DESCRIPTION:Im Wasserbaulabor dreht sich alles um Fließgewässerforschung, Hydraulik und Wasserbau. Bei der Langen Nacht der Forschung können Sie das Gebäude besichtigen, mit Modellen experimentieren, Simulationen von Flüssen bestaunen und Spannendes über fließendes Wasser lernen.
LOCATION:Am Brigittenauer Sporn 3, 1200 Wien
GEO:48.25796443;16.37010098
END:VEVENT
END:VCALENDAR