BEGIN:VCALENDAR
VERSION:2.0
PRODID:-//ERT//LNF26//DE
VERSION:2.0
BEGIN:VEVENT
UID:exhibitionlocation_61_20260424T150000Z
DTSTAMP:20260422T155900Z
URL:https://ert.langenachtderforschung.at/ausstellungsstandort/61
DTSTART:20260424T150000Z
DTEND:20260424T210000Z
SUMMARY:[LNF26] Biologische Station Neusiedler See
DESCRIPTION:Die Biologische Station Neusiedler See, Seevorgelände 1, 7142 Illmitz zeigt im Gebäude und im nahen Umfeld im Rahmen eines Stationsbetriebs die naturwissenschaftliche Forschung des Landes Burgenland. Alle Stationen sind sowohl für den Besuch durch Kinder und Erwachsene und Gruppen geeignet und bieten einen interessanten Einblick in die Welt der Biologie und Naturwissenschaften.
LOCATION:Seevorgelände 1, 7142 Illmitz
GEO:47.76906806;16.76626861
END:VEVENT
END:VCALENDAR