BEGIN:VCALENDAR
VERSION:2.0
PRODID:-//ERT//LNF26//DE
VERSION:2.0
BEGIN:VEVENT
UID:exhibitionlocation_620_20260424T150000Z
DTSTAMP:20260419T191700Z
URL:https://ert.langenachtderforschung.at/ausstellungsstandort/620
DTSTART:20260424T150000Z
DTEND:20260424T200000Z
SUMMARY:[LNF26] Forschungs- &amp; Entwicklungslabor, ANDRITZ AG - Graz
DESCRIPTION:Mit Sitz in Graz, Österreich, ist das Labor eine moderne und unabhängige Einrichtung für hydraulische Maschinen. Seit den 1960er-Jahren entstehen hier maßgeschneiderte Einzelstücke, die später weltweit im Einsatz sind und einen entscheidenden Beitrag zur Energiewende leisten. Durch kontinuierliche Innovation und präzise Entwicklungsarbeit setzt das Labor Maßstäbe in der Wasserkrafttechnologie.
LOCATION:Andritzer Reichsstraße 68B Halle F1 &amp; F3, 8045 Graz
GEO:47.10774894;15.41774109
END:VEVENT
END:VCALENDAR