BEGIN:VCALENDAR
VERSION:2.0
PRODID:-//ERT//LNF26//DE
VERSION:2.0
BEGIN:VEVENT
UID:exhibitionlocation_65_20260424T150000Z
DTSTAMP:20260421T161800Z
URL:https://ert.langenachtderforschung.at/ausstellungsstandort/65
DTSTART:20260424T150000Z
DTEND:20260424T210000Z
SUMMARY:[LNF26] EV Group (EVG)
DESCRIPTION:EV Group (EVG) mit Hauptsitz in St. Florian am Inn ist Technologie- und Marktführer für Präzisionsanlagen zur Waferbearbeitung. Das Produktportfolio umfasst Waferbonder, Lithographieanlagen sowie Reinigungs- und Messtechniksysteme. Das 1980 gegründete Unternehmen beschäftigt mehr als 1.700 Mitarbeiter:innen und besitzt Niederlassungen in USA, Japan, Südkorea, China, Taiwan und Singapur. Mehr Infos: www.EVGroup.com.
LOCATION:DI Erich Thallner Straße 1, 4782 St. Florian am Inn
GEO:48.43049621;13.44500721
END:VEVENT
END:VCALENDAR