BEGIN:VCALENDAR
VERSION:2.0
PRODID:-//ERT//LNF26//DE
VERSION:2.0
BEGIN:VEVENT
UID:exhibitionlocation_672_20260424T150000Z
DTSTAMP:20260419T225600Z
URL:https://ert.langenachtderforschung.at/ausstellungsstandort/672
DTSTART:20260424T150000Z
DTEND:20260424T210000Z
SUMMARY:[LNF26] TU Graz - Petersgasse 10-12
DESCRIPTION:TU Graz - Campus Neue Technik
LOCATION:Petersgasse 10-12, 8010 Graz
GEO:47.06555478;15.45280963
END:VEVENT
END:VCALENDAR