BEGIN:VCALENDAR
VERSION:2.0
PRODID:-//ERT//LNF26//DE
VERSION:2.0
BEGIN:VEVENT
UID:exhibitionlocation_674_20260424T150000Z
DTSTAMP:20260419T225600Z
URL:https://ert.langenachtderforschung.at/ausstellungsstandort/674
DTSTART:20260424T150000Z
DTEND:20260424T210000Z
SUMMARY:[LNF26] TU Graz - Stremayrgasse 16
DESCRIPTION:TU Graz - Campus Neue Technik
LOCATION:Stremayrgasse 16, 8010 Graz
GEO:47.06503320;15.45223260
END:VEVENT
END:VCALENDAR